Workbook

Sheet Sheet1
C4: DISTRICT WISE URBAN WARD ALLOCATION AMONG BANKS IN WEST BENGAL
C6: Sl | D6: Bank | E6: Hooghly | G6: Nadia | I6: Jalpaiguri | K6: Howrah | M6: Purba Medinipur
E7: No.of | F7: Household | G7: No. of | H7: Household | I7: No.of | J7: Household | K7: No. of | L7: Household | M7: No. of | N7: Household
E8: Wards | G8: Wards | I8: Wards | K8: Wards | M8: Wards
C9: 1 | D9: Allababad Bank | E9: 56 | F9: 66122 | G9: 26 | H9: 35689 | I9: 2 | J9: 1319 | K9: 10 | L9: 24394 | M9: 7 | N9: 6627
C10: 2 | D10: Bank of India | E10: 14 | F10: 15804 | G10: 9 | H10: 11276 | I10: 10 | J10: 6105 | K10: 7 | L10: 18682 | M10: 3 | N10: 2185
C11: 3 | D11: OBC | E11: 2 | F11: 2381 | G11: 2 | H11: 2628 | I11: 1 | J11: 632 | K11: 2 | L11: 3041 | M11: 0 | N11: 0
C12: 4 | D12: PBGB | E12: 3 | F12: 3230 | G12: 0 | H12: 0 | I12: 0 | J12: 0 | K12: 2 | L12: 5932 | M12: 0 | N12: 0
C13: 5 | D13: State Bank of India | E13: 62 | F13: 71267 | G13: 52 | H13: 43027 | I13: 14 | J13: 9957 | K13: 23 | L13: 56876 | M13: 19 | N13: 16713
C14: 6 | D14: United Bank of india | E14: 68 | F14: 88017 | G14: 50 | H14: 48899 | I14: 9 | J14: 6368 | K14: 23 | L14: 73577 | M14: 26 | N14: 25693
C15: 7 | D15: UCO Bank | E15: 38 | F15: 49108 | G15: 11 | H15: 10443 | I15: 3 | J15: 2968 | K15: 23 | L15: 84012 | M15: 5 | N15: 4429
C16: 8 | D16: Bank of Baroda | E16: 11 | F16: 17343 | G16: 6 | H16: 8803 | I16: 4 | J16: 3369 | K16: 2 | L16: 12149 | M16: 4 | N16: 3775
C17: 9 | D17: Indian Overseas Bank | E17: 13 | F17: 14475 | G17: 2 | H17: 2827 | I17: 4 | J17: 3577 | K17: 4 | L17: 9993 | M17: 2 | N17: 2293
C18: 10 | D18: Punjab National Bank | E18: 8 | F18: 8978 | G18: 3 | H18: 4268 | I18: 0 | J18: 0 | K18: 3 | L18: 9442 | M18: 7 | N18: 7280
C19: 11 | D19: Canara Bank | E19: 3 | F19: 5920 | G19: 5 | H19: 7034 | I19: 1 | J19: 710 | K19: 1 | L19: 2155 | M19: 8 | N19: 5398
C20: 12 | D20: Indian Bank | E20: 4 | F20: 6416 | G20: 2 | H20: 3126 | I20: 2 | J20: 1952 | K20: 3 | L20: 7417 | M20: 1 | N20: 2474
C21: 13 | D21: Punjab & Sind Bank | E21: 1 | F21: 1937 | G21: 0 | H21: 0 | I21: 0 | J21: 0 | K21: 2 | L21: 5193
C22: 14 | D22: Central Bank of India | E22: 8 | F22: 10184 | G22: 7 | H22: 8648 | I22: 5 | J22: 4534 | K22: 3 | L22: 10277 | M22: 3 | N22: 2372
C23: 15 | D23: Corporation Bank | E23: 3 | F23: 2536 | G23: 0 | H23: 0 | I23: 1 | J23: 1214 | K23: 0 | L23: 0 | M23: 1 | N23: 860
C24: 16 | D24: Union Bank of India | E24: 1 | F24: 1627 | G24: 4 | H24: 5401 | I24: 6 | J24: 5114 | K24: 1 | L24: 4117 | M24: 2 | N24: 1267
C25: 17 | D25: BGVB | E25: 0 | F25: 0 | G25: 6 | H25: 5054 | I25: 0 | J25: 0 | K25: 0 | L25: 0 | M25: 5 | N25: 4998
C26: 18 | D26: Dena Bank | E26: 0 | F26: 0 | G26: 1 | H26: 2008 | I26: 0 | J26: 0 | K26: 1 | L26: 4814
C27: 19 | D27: Syndicate Bank | E27: 0 | F27: 0 | G27: 3 | H27: 2589 | I27: 0 | J27: 0 | K27: 1 | L27: 3109 | M27: 2 | N27: 3721
C28: 20 | D28: HDFC | E28: 0 | F28: 0 | G28: 0 | H28: 0 | I28: 3 | J28: 2011 | K28: 0 | L28: 0
C29: 21 | D29: UBKGB | E29: 0 | F29: 0 | G29: 0 | H29: 0 | I29: 6 | J29: 3419 | K29: 0 | L29: 0
C30: 22 | D30: Axis Bank | E30: 0 | F30: 0 | G30: 0 | H30: 0 | I30: 1 | J30: 745 | K30: 0 | L30: 0
C31: 23 | D31: ICICI | E31: 0 | F31: 0 | G31: 0 | H31: 0 | I31: 4 | J31: 2024 | K31: 0 | L31: 0
C32: 24 | D32: Andhra Bank | K32: 1 | L32: 7124 | M32: 1 | N32: 2766
C33: 25 | D33: State Bank of Hyderabad | K33: 1 | L33: 3676
C34: 26 | D34: State Bankof Bikanir & Ja | K34: 1 | L34: 3734
C35: 27 | D35: Bank of Maharastra | M35: 1 | N35: 677
C36: 28 | D36: Vijaya Bank
C37: 29 | D37: IDBI
E38: =SUM(E9:E37) -> 295 | F38: =SUM(F9:F37) -> 365345 | G38: =SUM(G9:G37) -> 189 | H38: =SUM(H9:H37) -> 201720 | I38: =SUM(I9:I37) -> 76 | J38: =SUM(J9:J37) -> 56018 | K38: =SUM(K9:K37) -> 114 | L38: =SUM(L9:L37) -> 349714 | ... N38: =SUM(N9:N37) -> 93528

Sheet Sheet2
B4: `
B6: Sl | C6: Bank | D6: Bankura | F6: Coochbehar | H6: Dak. Dinajpur | J6: Birbhum | L6: Murshidabad
D7: No. of | E7: Household | F7: No. of | G7: Household | H7: No. of | I7: Household | J7: No. of | K7: Household | L7: No. of | M7: Household
D8: Ward | F8: Ward | H8: Ward | J8: Ward | L8: Ward
B9: 1 | C9: Allababad Bank | D9: 8 | E9: 5796 | F9: 2 | G9: 1220 | H9: 3 | I9: 4276 | J9: 14 | K9: 9132 | L9: 18 | M9: 16379
B10: 2 | C10: Bank of India | D10: 4 | E10: 4289 | F10: 3 | G10: 2187 | H10: 4 | I10: 5282 | J10: 4 | K10: 3406 | L10: 4 | M10: 5506
B11: 3 | C11: OBC | D11: 4 | E11: 4202 | F11: 0 | G11: 0 | H11: 2 | I11: 1468 | L11: 4 | M11: 4594
B12: 4 | C12: PBGB | D12: 0 | E12: 0 | F12: 0 | G12: 0 | J12: 2 | K12: 1219
B13: 5 | C13: State Bank of India | D13: 8 | E13: 5474 | F13: 17 | G13: 10254 | H13: 6 | I13: 5040 | J13: 29 | K13: 20742 | L13: 36 | M13: 30235
B14: 6 | C14: United Bank of india | D14: 8 | E14: 6056 | F14: 9 | G14: 4153 | H14: 5 | I14: 5126 | J14: 13 | K14: 11214 | L14: 36 | M14: 33256
B15: 7 | C15: UCO Bank | D15: 5 | E15: 4560 | F15: 1 | G15: 855 | H15: 1 | I15: 1878 | J15: 21 | K15: 14209 | L15: 6 | M15: 4654
B16: 8 | C16: Bank of Baroda | D16: 1 | E16: 1341 | F16: 1 | G16: 877 | H16: 1 | I16: 1252 | J16: 2 | K16: 1557 | L16: 4 | M16: 5417
B17: 9 | C17: Indian Overseas Bank | F17: 1 | G17: 1108 | H17: 1 | I17: 1766 | J17: 1 | K17: 982 | L17: 1 | M17: 692
B18: 10 | C18: Punjab National Bank | D18: 3 | E18: 2856 | F18: 1 | G18: 704 | H18: 1 | I18: 1278 | J18: 1 | K18: 720 | L18: 1 | M18: 1810
B19: 11 | C19: Canara Bank | D19: 3 | E19: 2539 | F19: 8 | G19: 4019 | H19: 3 | I19: 2908
B20: 12 | C20: Indian Bank | D20: 1 | E20: 1116 | F20: 0 | G20: 0 | H20: 2 | I20: 3775 | J20: 1 | K20: 677 | L20: 1 | M20: 1004
B21: 13 | C21: Punjab & Sind Bank | F21: 0 | G21: 0
B22: 14 | C22: Central Bank of India | D22: 1 | E22: 694 | F22: 19 | G22: 8731 | H22: 5 | I22: 5353 | J22: 7 | K22: 6227 | L22: 1 | M22: 1349
B23: 15 | C23: Corporation Bank | F23: 1 | G23: 728
B24: 16 | C24: Union Bank of India | D24: 1 | E24: 1269 | F24: 2 | G24: 1005 | H24: 2 | I24: 3674 | J24: 7 | K24: 5566 | L24: 2 | M24: 1319
B25: 17 | C25: BGVB | D25: 8 | E25: 8964 | H25: 5 | I25: 5888 | L25: 11 | M25: 9289
B26: 18 | C26: Dena Bank | L26: 1 | M26: 914
B27: 19 | C27: Syndicate Bank | D27: 1 | E27: 1380 | L27: 2 | M27: 1053
B28: 20 | C28: HDFC
B29: 21 | C29: UBKGB | F29: 14 | G29: 7174
B30: 22 | C30: Axis Bank
B31: 23 | C31: ICICI | D31: 1 | E31: 725
B32: 24 | C32: Andhra Bank
B33: 25 | C33: State Bank of Hyderabad
B34: 26 | C34: State Bankof Bikanir & Ja
B35: 27 | C35: Bank of Maharastra
B36: 28 | C36: Vijaya BaNK | F36: 1 | G36: 1125
B37: 29 | C37: IDBI | H37: 2 | I37: 2619
D38: =SUM(D9:D37) -> 57 | E38: =SUM(E9:E37) -> 51261 | F38: =SUM(F9:F37) -> 80 | G38: =SUM(G9:G37) -> 44140 | H38: =SUM(H9:H37) -> 43 | I38: =SUM(I9:I37) -> 51583 | J38: =SUM(J9:J37) -> 102 | K38: =SUM(K9:K37) -> 75651 | ... M38: =SUM(M9:M37) -> 117471

Sheet Sheet3
B3: DISTRICT WISE URBAN WARD ALLOCATION AMONG BANKS IN WEST BENGAL
B5: Sl | C5: Bank | D5: Paschim Medinipur | F5: Purulia | H5: Uttar Dinajpur | J5: Malda | L5: South 24 Pargana
D6: No. of | E6: Household | F6: No. of | G6: Household | H6: No. of | I6: Household | J6: No. of | K6: Household | L6: No. of | M6: Household
D7: Wards | F7: Wards | H7: Wards | J7: Wards | L7: Wards
B8: 1 | C8: Allababad Bank | D8: 7 | E8: 8361 | F8: 2 | G8: 2732 | H8: 4 | I8: 6478 | J8: 6 | K8: 7092 | L8: 23 | M8: 33072
B9: 2 | C9: Bank of India | D9: 6 | E9: 7955 | F9: 6 | G9: 3430 | H9: 9 | I9: 6641 | J9: 1 | K9: 1286 | L9: 8 | M9: 10435
B10: 3 | C10: OBC | D10: 2 | E10: 2610 | L10: 1 | M10: 541
B11: 4 | C11: PBGB
B12: 5 | C12: State Bank of India | D12: 29 | E12: 19786 | F12: 9 | G12: 5808 | H12: 19 | I12: 16214 | J12: 9 | K12: 11545 | L12: 34 | M12: 55044
B13: 6 | C13: United Bank of india | D13: 27 | E13: 24757 | F13: 9 | G13: 4413 | H13: 12 | I13: 11043 | J13: 3 | K13: 1748 | L13: 37 | M13: 73184
B14: 7 | C14: UCO Bank | D14: 32 | E14: 20399 | F14: 4 | G14: 2018 | H14: 1 | I14: 1180 | J14: 4 | K14: 5389 | L14: 17 | M14: 26385
B15: 8 | C15: Bank of Baroda | D15: 2 | E15: 3775 | F15: 2 | G15: 1146 | H15: 1 | I15: 978 | J15: 1 | K15: 1347 | L15: 5 | M15: 10691
B16: 9 | C16: Indian Overseas Bank | D16: 5 | E16: 7301 | H16: 4 | I16: 2852 | J16: 2 | K16: 4161 | L16: 1 | M16: 2495
B17: 10 | C17: Punjab National Bank | D17: 6 | E17: 7538 | F17: 2 | G17: 2019 | H17: 1 | I17: 1366 | J17: 1 | K17: 1356
B18: 11 | C18: Canara Bank | D18: 4 | E18: 3638 | F18: 6 | G18: 4494 | H18: 1 | I18: 1075 | J18: 1 | K18: 1183 | L18: 7 | M18: 12062
B19: 12 | C19: Indian Bank | D19: 2 | E19: 3672 | F19: 3 | G19: 3259 | J19: 1 | K19: 784 | L19: 1 | M19: 3043
B20: 13 | C20: Punjab & Sind Bank | L20: 1 | M20: 3196
B21: 14 | C21: Central Bank of India | D21: 4 | E21: 7428 | F21: 4 | G21: 2903 | H21: 10 | I21: 7562 | J21: 1 | K21: 3139 | L21: 2 | M21: 3155
B22: 15 | C22: Corporation Bank | H22: 2 | I22: 970 | J22: 1 | K22: 1805
B23: 16 | C23: Union Bank of India | H23: 4 | I23: 3382 | J23: 1 | K23: 1806 | L23: 5 | M23: 17247
B24: 17 | C24: BGVB | D24: 1 | E24: 2783 | H24: 5 | I24: 3424 | J24: 4 | K24: 3617 | L24: 1 | M24: 378
B25: 18 | C25: Dena Bank | D25: 2 | E25: 2566 | L25: 3 | M25: 2522
B26: 19 | C26: Syndicate Bank | D26: 2 | E26: 2720 | L26: 3 | M26: 4787
B27: 20 | C27: HDFC | J27: 1 | K27: 1240
B28: 21 | C28: UBKGB
B29: 22 | C29: Axis Bank | J29: 2 | K29: 2884
B30: 23 | C30: ICICI
B31: 24 | C31: Andhra Bank | D31: 2 | E31: 1759
B32: 25 | C32: State Bank of Hyderabad
B33: 26 | C33: State Bankof Bikanir & Ja
B34: 27 | C34: Bank of Maharastra | D34: 2 | E34: 3160 | J34: 1 | K34: 3093 | L34: 2 | M34: 2044
B35: 28 | C35: Vijaya BaNK | D35: 1 | E35: 1405 | J35: 1 | K35: 1492
B36: 29 | C36: IDBI | D36: 1 | E36: 1105 | J36: 1 | K36: 2827
B37: 30 | C37: Indus Ind Bank | J37: 1 | K37: 1552
B38: 31 | C38: Federal Bank of India | L38: 1 | M38: 3728
D39: =SUM(D8:D38) -> 137 | E39: =SUM(E8:E38) -> 132718 | F39: =SUM(F8:F38) -> 47 | G39: =SUM(G8:G38) -> 32222 | H39: =SUM(H8:H38) -> 73 | I39: =SUM(I8:I38) -> 63165 | J39: =SUM(J8:J38) -> 43 | K39: =SUM(K8:K38) -> 59346 | ... M39: =SUM(M8:M38) -> 264009

Sheet Sheet4
B4: DISTRICT WISE URBAN WARD ALLOCATION AMONG BANKS IN WEST BENGAL
B6: Sl | C6: Bank | D6: North 24 pargana | F6: Burdwan | H6: Darjeeling | J6: Kolkata | L6: Total
D7: No. of | E7: Household | F7: No. of | G7: Household | H7: No. of | I7: Household | J7: No. of | K7: Household | L7: No. of | M7: Household
D8: Wards | F8: Wards | H8: Wards | J8: Wards | L8: Wards
B9: 1 | C9: Allababad Bank | D9: 103 | E9: 183370 | F9: 24 | G9: 33044 | H9: 11 | I9: 7913 | J9: 16 | K9: 111647 | L9: 342 | M9: =Sheet1!F9+Sheet1!H9+Sheet1!J9+Sheet1!L9+Sheet1!N9+Sheet2!E9+Sheet2!G9+Sheet2!I9+Sheet2!K9+Sheet2!M9+Sheet3!E8+Sheet3!G8+Sheet3!I8+Sheet3!K8+Sheet3!M8+Sheet4!E9+Sheet4!G9+Sheet4!I9+Sheet4!K9 -> 564663
B10: 2 | C10: Bank of India | D10: 22 | E10: 36518 | F10: 31 | G10: 43954 | H10: 4 | I10: 4976 | J10: 5 | K10: 43885 | L10: 154 | M10: =Sheet1!F10+Sheet1!H10+Sheet1!J10+Sheet1!L10+Sheet1!N10+Sheet2!E10+Sheet2!G10+Sheet2!I10+Sheet2!K10+Sheet2!M10+Sheet3!E9+Sheet3!G9+Sheet3!I9+Sheet3!K9+Sheet3!M9+Sheet4!E10+Sheet4!G10+Sheet4!I10+Sheet4!K10 -> 233802
B11: 3 | C11: OBC | D11: 5 | E11: 10516 | F11: 6 | G11: 13406 | H11: 1 | I11: 851 | J11: 2 | K11: 11774 | L11: 34 | M11: =Sheet1!F11+Sheet1!H11+Sheet1!J11+Sheet1!L11+Sheet1!N11+Sheet2!E11+Sheet2!G11+Sheet2!I11+Sheet2!K11+Sheet2!M11+Sheet3!E10+Sheet3!G10+Sheet3!I10+Sheet3!K10+Sheet3!M10+Sheet4!E11+Sheet4!G11+Sheet4!I11+Sheet4!K11 -> 58644
B12: 4 | C12: PBGB | F12: 1 | G12: 1294 | L12: 8 | M12: =Sheet1!F12+Sheet1!H12+Sheet1!J12+Sheet1!L12+Sheet1!N12+Sheet2!E12+Sheet2!G12+Sheet2!I12+Sheet2!K12+Sheet2!M12+Sheet3!E11+Sheet3!G11+Sheet3!I11+Sheet3!K11+Sheet3!M11+Sheet4!E12+Sheet4!G12 -> 11675
B13: 5 | C13: State Bank of India | D13: 155 | E13: 232015 | F13: 98 | G13: 150929 | H13: 24 | I13: 21489 | J13: 30 | K13: 224617 | L13: 673 | M13: =Sheet1!F13+Sheet1!H13+Sheet1!J13+Sheet1!L13+Sheet1!N13+Sheet2!E13+Sheet2!G13+Sheet2!I13+Sheet2!K13+Sheet2!M13+Sheet3!E12+Sheet3!G12+Sheet3!I12+Sheet3!K12+Sheet3!M12+Sheet4!E13+Sheet4!G13+Sheet4!I13+Sheet4!K13 -> 1007032
B14: 6 | C14: United Bank of india | D14: 131 | E14: 225877 | F14: 43 | G14: 84769 | H14: 7 | I14: 8750 | J14: 29 | K14: 192188 | L14: 545 | M14: =Sheet1!F14+Sheet1!H14+Sheet1!J14+Sheet1!L14+Sheet1!N14+Sheet2!E14+Sheet2!G14+Sheet2!I14+Sheet2!K14+Sheet2!M14+Sheet3!E13+Sheet3!G13+Sheet3!I13+Sheet3!K13+Sheet3!M13+Sheet4!E14+Sheet4!G14+Sheet4!I14+Sheet4!K14 -> 929088
B15: 7 | C15: UCO Bank | D15: 58 | E15: 92291 | F15: 27 | G15: 46061 | H15: 4 | I15: 7024 | J15: 14 | K15: 100169 | L15: 275 | M15: =Sheet1!F15+Sheet1!H15+Sheet1!J15+Sheet1!L15+Sheet1!N15+Sheet2!E15+Sheet2!G15+Sheet2!I15+Sheet2!K15+Sheet2!M15+Sheet3!E14+Sheet3!G14+Sheet3!I14+Sheet3!K14+Sheet3!M14+Sheet4!E15+Sheet4!G15+Sheet4!I15+Sheet4!K15 -> 478032
B16: 8 | C16: Bank of Baroda | D16: 40 | E16: 68533 | F16: 9 | G16: 12876 | H16: 3 | I16: 3051 | J16: 10 | K16: 86932 | L16: 109 | M16: =Sheet1!F16+Sheet1!H16+Sheet1!J16+Sheet1!L16+Sheet1!N16+Sheet2!E16+Sheet2!G16+Sheet2!I16+Sheet2!K16+Sheet2!M16+Sheet3!E15+Sheet3!G15+Sheet3!I15+Sheet3!K15+Sheet3!M15+Sheet4!E16+Sheet4!G16+Sheet4!I16+Sheet4!K16 -> 245212
B17: 9 | C17: Indian Overseas Bank | D17: 6 | E17: 7873 | F17: 5 | G17: 9508 | H17: 5 | I17: 8107 | J17: 9 | K17: 64255 | L17: 66 | M17: =Sheet1!F17+Sheet1!H17+Sheet1!J17+Sheet1!L17+Sheet1!N17+Sheet2!E17+Sheet2!G17+Sheet2!I17+Sheet2!K17+Sheet2!M17+Sheet3!E16+Sheet3!G16+Sheet3!I16+Sheet3!K16+Sheet3!M16+Sheet4!E17+Sheet4!G17+Sheet4!I17+Sheet4!K17 -> 144265
B18: 10 | C18: Punjab National Bank | D18: 54 | E18: 110436 | F18: 5 | G18: 10033 | H18: 1 | I18: 2071 | J18: 6 | K18: 61394 | L18: 104 | M18: =Sheet1!F18+Sheet1!H18+Sheet1!J18+Sheet1!L18+Sheet1!N18+Sheet2!E18+Sheet2!G18+Sheet2!I18+Sheet2!K18+Sheet2!M18+Sheet3!E17+Sheet3!G17+Sheet3!I17+Sheet3!K17+Sheet3!M17+Sheet4!E18+Sheet4!G18+Sheet4!I18+Sheet4!K18 -> 233549
B19: 11 | C19: Canara Bank | D19: 15 | E19: 28102 | F19: 11 | G19: 14911 | H19: 2 | I19: 1748 | J19: 4 | K19: 14475 | L19: 83 | M19: 116865
B20: 12 | C20: Indian Bank | D20: 12 | E20: 24760 | F20: 6 | G20: 13134 | H20: 2 | I20: 1574 | L20: 44 | M20: =Sheet1!F20+Sheet1!H20+Sheet1!J20+Sheet1!L20+Sheet1!N20+Sheet2!E20+Sheet2!G20+Sheet2!I20+Sheet2!K20+Sheet2!M20+Sheet3!E19+Sheet3!G19+Sheet3!K19+Sheet3!M19+Sheet4!E20+Sheet4!G20+Sheet4!I20 -> 78183
B21: 13 | C21: Punjab & Sind Bank | F21: 1 | G21: 1233 | H21: 1 | I21: 3497 | L21: 6 | M21: =Sheet1!F21+Sheet1!L21+Sheet3!M20+Sheet4!G21+Sheet4!I21 -> 15056
B22: 14 | C22: Central Bank of India | D22: 24 | E22: 36427 | F22: 9 | G22: 15861 | H22: 21 | I22: 21229 | J22: 7 | K22: 53098 | L22: 141 | M22: =Sheet1!F22+Sheet1!H22+Sheet1!J22+Sheet1!L22+Sheet1!N22+Sheet2!E22+Sheet2!G22+Sheet2!I22+Sheet2!K22+Sheet2!M22+Sheet3!E21+Sheet3!G21+Sheet3!I21+Sheet3!K21+Sheet3!M21+Sheet4!E22+Sheet4!G22+Sheet4!I22+Sheet4!K22 -> 209171
B23: 15 | C23: Corporation Bank | H23: 2 | I23: 2080 | L23: 11 | M23: 5699
B24: 16 | C24: Union Bank of India | D24: 14 | E24: 25511 | F24: 5 | G24: 11036 | H24: 7 | I24: 8762 | J24: 4 | K24: 24285 | L24: 68 | M24: =Sheet1!F24+Sheet1!H24+Sheet1!J24+Sheet1!L24+Sheet1!N24+Sheet2!E24+Sheet2!G24+Sheet2!I24+Sheet2!K24+Sheet2!M24+Sheet3!I23+Sheet3!K23+Sheet3!M23+Sheet4!E24+Sheet4!G24+Sheet4!I24+Sheet4!K24 -> 122388
B25: 17 | C25: BGVB | D25: 9 | E25: 12995 | L25: 55 | M25: =Sheet1!H25+Sheet1!N25+Sheet2!E25+Sheet2!I25+Sheet2!M25+Sheet3!E24+Sheet3!I24+Sheet3!K24+Sheet3!M24+Sheet4!E25 -> 57390
B26: 18 | C26: Dena Bank | F26: 2 | G26: 6175 | H26: 1 | I26: 3325 | L26: 11 | M26: =Sheet1!H26+Sheet1!L26+Sheet2!M26+Sheet3!E25+Sheet3!M25+Sheet4!G26+Sheet4!I26 -> 22324
B27: 19 | C27: Syndicate Bank | D27: 3 | E27: 9129 | F27: 5 | G27: 8311 | H27: 1 | I27: 3912 | L27: 23 | M27: =Sheet1!H27+Sheet1!L27+Sheet1!N27+Sheet2!E27+Sheet2!M27+Sheet3!E26+Sheet3!M26+Sheet4!E27+Sheet4!G27+Sheet4!I27 -> 40711
B28: 20 | C28: HDFC | D28: 12 | E28: 21083 | H28: 9 | I28: 10351 | L28: 25 | M28: =Sheet1!J28+Sheet3!K27+Sheet4!E28+Sheet4!I28 -> 34685
B29: 21 | C29: UBKGB | H29: 6 | I29: 12757 | L29: 26 | M29: =Sheet1!J29+Sheet2!G29+Sheet4!I29 -> 23350
B30: 22 | C30: Axis Bank | D30: 20 | E30: 29123 | H30: 7 | I30: 9991 | L30: 30 | M30: =Sheet1!J30+Sheet3!K29+Sheet4!E30+Sheet4!I30 -> 42743
B31: 23 | C31: ICICI | D31: 6 | E31: 6844 | H31: 8 | I31: 7006 | J31: 5 | K31: 36209 | L31: 24 | M31: 52808
B32: 24 | C32: Andhra Bank | D32: 4 | E32: 9629 | F32: 2 | G32: 4223 | L32: 10 | M32: =Sheet1!L32+Sheet1!N32+Sheet3!E31+Sheet4!E32+Sheet4!G32 -> 25501
B33: 25 | C33: State Bank of Hyderabad | L33: 1 | M33: 3676
B34: 26 | C34: State Bankof Bikanir & Ja | L34: 1 | M34: 3734
B35: 27 | C35: Bank of Maharastra | D35: 8 | E35: 23424 | H35: 1 | I35: 2181 | L35: 15 | M35: =Sheet1!N35+Sheet3!E34+Sheet3!K34+Sheet3!M34+Sheet4!E35+Sheet4!I35 -> 34579
B36: 28 | C36: Vijaya BaNK | D36: 1 | E36: 1673 | F36: 1 | G36: 1296 | H36: 2 | I36: 3127 | L36: 7 | M36: =Sheet2!G36+Sheet3!E35+Sheet3!K35+Sheet4!E36+Sheet4!G36+Sheet4!I36 -> 10118
B37: 29 | C37: IDBI | D37: 3 | E37: 3678 | H37: 1 | I37: 1161 | L37: 8 | M37: =Sheet2!I37+Sheet3!E36+Sheet3!K36+Sheet4!E37+Sheet4!I37 -> 11390
B38: 30 | C38: Indus Ind Bank | D38: 6 | E38: 17917 | L38: 7 | M38: =Sheet3!K37+Sheet4!E38 -> 19469
B39: 31 | C39: Federal Bank of India | L39: 1 | M39: 3728
D40: =SUM(D9:D39) -> 711 | E40: =SUM(E9:E39) -> 1217724 | F40: =SUM(F9:F39) -> 291 | G40: =SUM(G9:G39) -> 482054 | H40: =SUM(H9:H39) -> 131 | I40: =SUM(I9:I39) -> 156933 | J40: =SUM(J9:J39) -> 141 | K40: =SUM(K9:K39) -> 1024928 | ... M40: =SUM(M9:M39) -> 4839530

Sheet Sheet5
A1: 6
D6: 66122 | E6: 35689 | F6: 1319 | G6: 24394 | H6: 6627 | I6: 5796 | J6: 1220 | K6: 4276 | L6: 9132 | M6: 16379 | N6: 8361 | O6: 2732 | P6: 6478 | Q6: 7092 | R6: 33072 | S6: 183370 | T6: 33044 | U6: 7913 | V6: 111647 | W6: =SUM(D6:V6) -> 564663
D7: 15804 | E7: 11276 | F7: 6105 | G7: 18682 | H7: 2185 | I7: 4289 | J7: 2187 | K7: 5282 | L7: 3406 | M7: 5506 | N7: 7955 | O7: 3430 | P7: 6641 | Q7: 1286 | R7: 10435 | S7: 36518 | T7: 43954 | U7: 4976 | V7: 43885 | W7: =SUM(D7:V7) -> 233802
D8: 2381 | E8: 2628 | F8: 632 | G8: 3041 | H8: 0 | I8: 4202 | J8: 0 | K8: 1468 | L8: 0 | M8: 4594 | N8: 2610 | O8: 0 | P8: 0 | Q8: 0 | R8: 541 | S8: 10516 | T8: 13406 | U8: 851 | V8: 11774 | W8: =SUM(D8:V8) -> 58644
D9: 3230 | E9: 0 | F9: 0 | G9: 5932 | H9: 0 | I9: 0 | J9: 0 | K9: 0 | L9: 1219 | M9: 0 | N9: 0 | O9: 0 | P9: 0 | Q9: 0 | R9: 0 | S9: 0 | T9: 1294 | U9: 0 | V9: 0 | W9: =SUM(D9:V9) -> 11675
D10: 71267 | E10: 43027 | F10: 9957 | G10: 56876 | H10: 16713 | I10: 5474 | J10: 10254 | K10: 5040 | L10: 20742 | M10: 30235 | N10: 19786 | O10: 5808 | P10: 16214 | Q10: 11545 | R10: 55044 | S10: 232015 | T10: 150929 | U10: 21489 | V10: 224617 | W10: =SUM(D10:V10) -> 1007032
D11: 88017 | E11: 48899 | F11: 6368 | G11: 73577 | H11: 25693 | I11: 6056 | J11: 4153 | K11: 5126 | L11: 11214 | M11: 33256 | N11: 24757 | O11: 4413 | P11: 11043 | Q11: 1748 | R11: 73184 | S11: 225877 | T11: 84769 | U11: 8750 | V11: 192188 | W11: =SUM(D11:V11) -> 929088
D12: 49108 | E12: 10443 | F12: 2968 | G12: 84012 | H12: 4429 | I12: 4560 | J12: 855 | K12: 1878 | L12: 14209 | M12: 4654 | N12: 20399 | O12: 2018 | P12: 1180 | Q12: 5389 | R12: 26385 | S12: 92291 | T12: 46061 | U12: 7024 | V12: 100169 | W12: =SUM(D12:V12) -> 478032
D13: 17343 | E13: 8803 | F13: 3369 | G13: 12149 | H13: 3775 | I13: 1341 | J13: 877 | K13: 1252 | L13: 1557 | M13: 5417 | N13: 3775 | O13: 1146 | P13: 978 | Q13: 1347 | R13: 10691 | S13: 68533 | T13: 12876 | U13: 3051 | V13: 86932 | W13: =SUM(D13:V13) -> 245212
D14: 14475 | E14: 2827 | F14: 3577 | G14: 9993 | H14: 2293 | I14: 0 | J14: 1108 | K14: 1766 | L14: 982 | M14: 692 | N14: 7301 | O14: 0 | P14: 2852 | Q14: 4161 | R14: 2495 | S14: 7873 | T14: 9508 | U14: 8107 | V14: 64255 | W14: =SUM(D14:V14) -> 144265
D15: 8978 | E15: 4268 | F15: 0 | G15: 9442 | H15: 7280 | I15: 2856 | J15: 704 | K15: 1278 | L15: 720 | M15: 1810 | N15: 7538 | O15: 2019 | P15: 1366 | Q15: 1356 | R15: 0 | S15: 110436 | T15: 10033 | U15: 2071 | V15: 61394 | W15: =SUM(D15:V15) -> 233549
D16: 5920 | E16: 7034 | F16: 710 | G16: 2155 | H16: 5398 | I16: 2539 | J16: 4019 | K16: 2908 | L16: 0 | M16: 0 | N16: 3638 | O16: 0 | P16: 1075 | Q16: 1183 | R16: 12062 | S16: 28102 | T16: 14911 | U16: 1748 | V16: 14475 | W16: =SUM(D16:V16) -> 107877
D17: 6416 | E17: 3126 | F17: 1952 | G17: 7417 | H17: 2474 | I17: 1116 | J17: 0 | K17: 3775 | L17: 677 | M17: 1004 | N17: 3672 | O17: 3259 | P17: 0 | Q17: 784 | R17: 3043 | S17: 24760 | T17: 13134 | U17: 1574 | V17: 0 | W17: =SUM(D17:V17) -> 78183
... D20: 2536 | E20: 0 | F20: 1214 | G20: 0 | H20: 860 | I20: 0 | J20: 728 | K20: 0 | L20: 0 | M20: 0 | N20: 0 | O20: 4494 | P20: 970 | Q20: 1805 | R20: 0 | S20: 0 | T20: 0 | U20: 2080 | V20: 0 | W20: =SUM(D20:V20) -> 14687
D21: 1627 | E21: 5401 | F21: 5114 | G21: 4117 | H21: 1267 | I21: 1269 | J21: 1005 | K21: 3674 | L21: 5566 | M21: 1319 | N21: 0 | P21: 3382 | Q21: 1806 | R21: 17247 | S21: 25511 | T21: 11036 | U21: 8762 | V21: 24285 | W21: =SUM(D21:V21) -> 122388
E22: 5054 | F22: 0 | G22: 0 | H22: 4998 | I22: 8964 | J22: 0 | K22: 5888 | M22: 9289 | N22: 2783 | P22: 3424 | Q22: 3617 | R22: 378 | S22: 12995 | T22: 0 | U22: 0 | V22: 0 | W22: =SUM(D22:V22) -> 57390
E23: 2008 | F23: 0 | G23: 4814 | H23: 0 | I23: 0 | J23: 0 | K23: 0 | M23: 914 | N23: 2566 | Q23: 0 | R23: 2522 | S23: 0 | T23: 6175 | U23: 3325 | V23: 0 | W23: =SUM(E23:V23) -> 22324
E24: 2589 | F24: 0 | G24: 3109 | H24: 3721 | I24: 1380 | J24: 0 | K24: 0 | M24: 1053 | N24: 2720 | Q24: 0 | R24: 4787 | S24: 9129 | T24: 8311 | U24: 3912 | V24: 0 | W24: =SUM(E24:V24) -> 40711
F25: 2011 | G25: 0 | H25: 0 | I25: 0 | J25: 0 | K25: 0 | N25: 0 | Q25: 1240 | R25: 0 | S25: 21083 | T25: 0 | U25: 10351 | V25: 0 | W25: =SUM(E25:V25) -> 34685
F26: 3419 | G26: 0 | H26: 0 | I26: 0 | J26: 7174 | K26: 0 | N26: 0 | Q26: 0 | R26: 0 | S26: 0 | T26: 0 | U26: 12757 | V26: 0 | W26: =SUM(E26:V26) -> 23350
F27: 745 | G27: 0 | H27: 0 | I27: 0 | J27: 0 | K27: 0 | N27: 0 | Q27: 2884 | R27: 0 | S27: 29123 | T27: 0 | U27: 9991 | V27: 0 | W27: =SUM(E27:V27) -> 42743
F28: 2024 | G28: 0 | H28: 0 | I28: 725 | J28: 0 | K28: 0 | N28: 0 | Q28: 0 | R28: 0 | S28: 6844 | T28: 0 | U28: 7006 | V28: 36209 | W28: =SUM(E28:V28) -> 52808
G29: 7124 | H29: 2766 | J29: 0 | K29: 0 | N29: 1759 | Q29: 0 | R29: 0 | S29: 9629 | T29: 4223 | U29: 0 | W29: =SUM(E29:V29) -> 25501
G30: 3676 | H30: 0 | J30: 0 | K30: 0 | N30: 0 | Q30: 0 | R30: 0 | S30: 0 | T30: 0 | U30: 0 | W30: =SUM(E30:V30) -> 3676
G31: 3734 | H31: 0 | J31: 0 | K31: 0 | N31: 0 | Q31: 0 | R31: 0 | S31: 0 | T31: 0 | U31: 0 | W31: =SUM(E31:V31) -> 3734
H32: 677 | J32: 0 | K32: 0 | N32: 3160 | Q32: 3093 | R32: 2044 | S32: 23424 | T32: 0 | U32: 2181 | W32: =SUM(E32:V32) -> 34579
J33: 1125 | K33: 0 | N33: 1405 | Q33: 1492 | R33: 0 | S33: 1673 | T33: 1296 | U33: 3127 | W33: =SUM(E33:V33) -> 10118
K34: 2619 | N34: 1105 | Q34: 2827 | R34: 0 | S34: 3678 | U34: 1161 | W34: =SUM(E34:V34) -> 11390
Q35: 1552 | R35: 0 | S35: 17917 | W35: =SUM(E35:V35) -> 19469
R36: 3728 | W36: =SUM(E36:V36) -> 3728
D40: =SUM(D6:D39) -> 365345 | E40: =SUM(E6:E39) -> 201720 | F40: =SUM(F6:F39) -> 56018 | G40: =SUM(G6:G39) -> 349714 | H40: =SUM(H6:H39) -> 93528 | I40: =SUM(I6:I39) -> 51261 | J40: =SUM(J6:J39) -> 44140 | K40: =SUM(K6:K39) -> 51583 | ... V40: =SUM(V6:V39) -> 1024928 | W40: =SUM(D40:V40) -> 4839530
